BEGIN:VCALENDAR
VERSION:2.0
PRODID:-//TRIC - Tayside Regional Improvement Collaborative - ECPv6.15.17.1//NONSGML v1.0//EN
CALSCALE:GREGORIAN
METHOD:PUBLISH
X-WR-CALNAME:TRIC - Tayside Regional Improvement Collaborative
X-ORIGINAL-URL:https://www.taycollab.org.uk
X-WR-CALDESC:Events for TRIC - Tayside Regional Improvement Collaborative
REFRESH-INTERVAL;VALUE=DURATION:PT1H
X-Robots-Tag:noindex
X-PUBLISHED-TTL:PT1H
BEGIN:VTIMEZONE
TZID:UTC
BEGIN:STANDARD
TZOFFSETFROM:+0000
TZOFFSETTO:+0000
TZNAME:UTC
DTSTART:20210101T000000
END:STANDARD
END:VTIMEZONE
BEGIN:VEVENT
DTSTART;TZID=UTC:20260128T160000
DTEND;TZID=UTC:20260128T170000
DTSTAMP:20260421T103942
CREATED:20250915T073548Z
LAST-MODIFIED:20250915T073548Z
UID:2394-1769616000-1769619600@www.taycollab.org.uk
SUMMARY:Leading Change in Numeracy & Mathematics
DESCRIPTION:2056 – 2026 – Leading Change in N&M Series
URL:https://www.taycollab.org.uk/event/leading-change-in-numeracy-mathematics/
LOCATION:Online
CATEGORIES:Learning & Attainment
END:VEVENT
BEGIN:VEVENT
DTSTART;TZID=UTC:20240522T160000
DTEND;TZID=UTC:20240522T170000
DTSTAMP:20260421T103942
CREATED:20230629T080536Z
LAST-MODIFIED:20230629T084004Z
UID:2247-1716393600-1716397200@www.taycollab.org.uk
SUMMARY:Tayside Maths Spotlight Session - Developing Mathematical Reasoning
DESCRIPTION:For ELC\, Primary and Secondary \nOnline 4-5pm \nFor more on Spotlight sessions: Tayside Maths Home Page – Spotlight Sessions (google.com)
URL:https://www.taycollab.org.uk/event/tayside-maths-spotlight-session-developing-mathematical-reasoning/
LOCATION:Online
CATEGORIES:Learning & Attainment
ATTACH;FMTTYPE=image/png:https://www.taycollab.org.uk/wp-content/uploads/2022/09/tayside-maths.png
END:VEVENT
BEGIN:VEVENT
DTSTART;TZID=UTC:20240521T160000
DTEND;TZID=UTC:20240521T170000
DTSTAMP:20260421T103942
CREATED:20240320T123314Z
LAST-MODIFIED:20240320T123314Z
UID:2363-1716307200-1716310800@www.taycollab.org.uk
SUMMARY:NEW DATE: Taymaths - Learning For Sustainability Through Maths
DESCRIPTION:New Date – Sign up here!
URL:https://www.taycollab.org.uk/event/new-date-taymaths-learning-for-sustainability-through-maths/
LOCATION:Online
CATEGORIES:Learning & Attainment
ATTACH;FMTTYPE=image/png:https://www.taycollab.org.uk/wp-content/uploads/2022/09/tayside-maths.png
END:VEVENT
BEGIN:VEVENT
DTSTART;TZID=UTC:20240423T160000
DTEND;TZID=UTC:20240423T170000
DTSTAMP:20260421T103942
CREATED:20240320T122342Z
LAST-MODIFIED:20240320T122342Z
UID:2361-1713888000-1713891600@www.taycollab.org.uk
SUMMARY:Taymaths - Spotlight On.. Using Digital Tools in Numeracy & Maths
DESCRIPTION:Sign up here!
URL:https://www.taycollab.org.uk/event/taymaths-spotlight-on-using-digital-tools-in-numeracy-maths/
LOCATION:Online
CATEGORIES:Learning & Attainment
ATTACH;FMTTYPE=image/png:https://www.taycollab.org.uk/wp-content/uploads/2022/09/tayside-maths.png
END:VEVENT
BEGIN:VEVENT
DTSTART;TZID=UTC:20240423T160000
DTEND;TZID=UTC:20240423T170000
DTSTAMP:20260421T103942
CREATED:20230629T080536Z
LAST-MODIFIED:20230629T083441Z
UID:2244-1713888000-1713891600@www.taycollab.org.uk
SUMMARY:Tayside Maths Spotlight Session - Using Digital Tools in Numeracy and Maths
DESCRIPTION:For ELC\, Primary and Secondary \nOnline 4-5pm \nFor more on Spotlight sessions: Tayside Maths Home Page – Spotlight Sessions (google.com)
URL:https://www.taycollab.org.uk/event/tayside-maths-spotlight-session-using-digital-tools-in-numeracy-and-maths/
LOCATION:Online
CATEGORIES:Learning & Attainment
ATTACH;FMTTYPE=image/png:https://www.taycollab.org.uk/wp-content/uploads/2022/09/tayside-maths.png
END:VEVENT
BEGIN:VEVENT
DTSTART;TZID=UTC:20240321T160000
DTEND;TZID=UTC:20240321T170000
DTSTAMP:20260421T103942
CREATED:20230629T080536Z
LAST-MODIFIED:20230629T082537Z
UID:2242-1711036800-1711040400@www.taycollab.org.uk
SUMMARY:Tayside Maths Spotlight Session - Financial Education
DESCRIPTION:For ELC\, Primary and Secondary \nOnline 4-5pm \nFor more on Spotlight sessions: Tayside Maths Home Page – Spotlight Sessions (google.com)
URL:https://www.taycollab.org.uk/event/tayside-maths-spotlight-session-financial-education/
LOCATION:Online
CATEGORIES:Learning & Attainment
ATTACH;FMTTYPE=image/png:https://www.taycollab.org.uk/wp-content/uploads/2022/09/tayside-maths.png
END:VEVENT
BEGIN:VEVENT
DTSTART;TZID=UTC:20240314T160000
DTEND;TZID=UTC:20240314T173000
DTSTAMP:20260421T103942
CREATED:20230628T123137Z
LAST-MODIFIED:20230628T123429Z
UID:2231-1710432000-1710437400@www.taycollab.org.uk
SUMMARY:Numeracy and Mathematics Professional Learning Sessions
DESCRIPTION:A series of professional learning sessions aimed at those leading change in Numeracy and Mathematics. These sessions will focus on key themes such as the best use of numeracy data\, planning for improvement and ways to increasing engagement and motivation in Numeracy and Mathematics. \nThe sessions will take place\nvirtually 4:00 – 5:30pm on: \nSession 1 – Thursday 1st February 2024\nSession 2 – Thursday 22nd February 2024\nSession 3 – Thursday 14th March 2024 \nSign up here
URL:https://www.taycollab.org.uk/event/numeracy-and-mathematics-professional-learning-sessions-3/
LOCATION:Online
CATEGORIES:Learning & Attainment
ATTACH;FMTTYPE=image/png:https://www.taycollab.org.uk/wp-content/uploads/2022/09/tayside-maths.png
END:VEVENT
BEGIN:VEVENT
DTSTART;TZID=UTC:20240228T160000
DTEND;TZID=UTC:20240228T170000
DTSTAMP:20260421T103942
CREATED:20230629T080536Z
LAST-MODIFIED:20230629T082259Z
UID:2240-1709136000-1709139600@www.taycollab.org.uk
SUMMARY:Tayside Maths Spotlight Session -CPA- Using Pictorial Representations
DESCRIPTION:For First\, Second\, Third and Fourth levels \nOnline 4-5pm \nFor more on Spotlight sessions: Tayside Maths Home Page – Spotlight Sessions (google.com)
URL:https://www.taycollab.org.uk/event/tayside-maths-spotlight-session-cpa-using-pictorial-representations/
LOCATION:Online
CATEGORIES:Learning & Attainment
ATTACH;FMTTYPE=image/png:https://www.taycollab.org.uk/wp-content/uploads/2022/09/tayside-maths.png
END:VEVENT
BEGIN:VEVENT
DTSTART;TZID=UTC:20240222T160000
DTEND;TZID=UTC:20240222T173000
DTSTAMP:20260421T103942
CREATED:20230628T123137Z
LAST-MODIFIED:20230629T081441Z
UID:2229-1708617600-1708623000@www.taycollab.org.uk
SUMMARY:Numeracy and Mathematics Professional Learning Sessions
DESCRIPTION:A series of professional learning sessions aimed at those leading change in Numeracy and Mathematics. These sessions will focus on key themes such as the best use of numeracy data\, planning for improvement and ways to increasing engagement and motivation in Numeracy and Mathematics. \nThe sessions will take place\nvirtually 4:00 – 5:30pm on: \nSession 1 – Thursday 1st February 2024\nSession 2 – Thursday 22nd February 2024\nSession 3 – Thursday 14th March 2024 \nSign up here
URL:https://www.taycollab.org.uk/event/numeracy-and-mathematics-professional-learning-sessions-2/
LOCATION:Online
CATEGORIES:Learning & Attainment
ATTACH;FMTTYPE=image/png:https://www.taycollab.org.uk/wp-content/uploads/2022/09/tayside-maths.png
END:VEVENT
BEGIN:VEVENT
DTSTART;TZID=UTC:20240201T160000
DTEND;TZID=UTC:20240201T173000
DTSTAMP:20260421T103942
CREATED:20230628T123137Z
LAST-MODIFIED:20230628T123248Z
UID:2226-1706803200-1706808600@www.taycollab.org.uk
SUMMARY:Numeracy and Mathematics Professional Learning Sessions
DESCRIPTION:A series of professional learning sessions aimed at those leading change in Numeracy and Mathematics. These sessions will focus on key themes such as the best use of numeracy data\, planning for improvement and ways to increasing engagement and motivation in Numeracy and Mathematics. \nThe sessions will take place\nvirtually 4:00 – 5:30pm on: \nSession 1 – Thursday 1st February 2024\nSession 2 – Thursday 22nd February 2024\nSession 3 – Thursday 14th March 2024 \nSign up here
URL:https://www.taycollab.org.uk/event/numeracy-and-mathematics-professional-learning-sessions/
LOCATION:Online
CATEGORIES:Learning & Attainment
ATTACH;FMTTYPE=image/png:https://www.taycollab.org.uk/wp-content/uploads/2022/09/tayside-maths.png
END:VEVENT
BEGIN:VEVENT
DTSTART;TZID=UTC:20240125T160000
DTEND;TZID=UTC:20240125T170000
DTSTAMP:20260421T103942
CREATED:20230629T080536Z
LAST-MODIFIED:20230629T084516Z
UID:2238-1706198400-1706202000@www.taycollab.org.uk
SUMMARY:Tayside Maths Spotlight Session - Learning For Sustainability Through Maths
DESCRIPTION:For ELC\, Primary and Secondary \nOnline 4-5pm \nFor more on Spotlight sessions: Tayside Maths Home Page – Spotlight Sessions (google.com)
URL:https://www.taycollab.org.uk/event/tayside-maths-spotlight-session-learning-for-sustainability-through-maths/
LOCATION:Online
CATEGORIES:Learning & Attainment
ATTACH;FMTTYPE=image/png:https://www.taycollab.org.uk/wp-content/uploads/2022/09/tayside-maths.png
END:VEVENT
BEGIN:VEVENT
DTSTART;TZID=UTC:20231205T160000
DTEND;TZID=UTC:20231205T170000
DTSTAMP:20260421T103942
CREATED:20230629T080536Z
LAST-MODIFIED:20230629T085034Z
UID:2249-1701792000-1701795600@www.taycollab.org.uk
SUMMARY:Tayside Maths Spotlight Session - Developing Mathematical Concepts Through Play
DESCRIPTION:For Early\, First and Second levels. \nOnline 4-5pm \nFor more on Spotlight sessions: Tayside Maths Home Page – Spotlight Sessions (google.com)
URL:https://www.taycollab.org.uk/event/tayside-maths-spotlight-session-developing-mathematical-concepts-through-play/
LOCATION:Online
CATEGORIES:Learning & Attainment
ATTACH;FMTTYPE=image/png:https://www.taycollab.org.uk/wp-content/uploads/2022/09/tayside-maths.png
END:VEVENT
BEGIN:VEVENT
DTSTART;TZID=UTC:20231111T091500
DTEND;TZID=UTC:20231111T130000
DTSTAMP:20260421T103942
CREATED:20231003T090341Z
LAST-MODIFIED:20231003T090341Z
UID:2271-1699694100-1699707600@www.taycollab.org.uk
SUMMARY:TRIC DigiFest 2.3
DESCRIPTION:As you will be aware\, 2019 saw the inaugural TRIC Digital Learning Festival\, #TRICDigiFest. In order to build on the regional and local priorities for digital learning across Tayside\, we are delighted to announce that TRIC DigiFest 2.3 will take place on 11th November 2023 \n \nThis professional learning and networking event aims to highlight and share high quality\, inspiring practice from schools in all three local authorities. Comprising of a mix of workshops\, roundtable discussions and presentations\, we hope that practitioners and leaders from all sectors can join us for TRIC DigiFest 2.3. \n \nPartnering with University of Dundee\, this event will take place in their Dalhousie Building between 9.15 am-1pm. \n \nAll attendees are required to complete a short registration form. This form will also be used to invite participants to identify and reserve their workshops preferences nearer to the time. To register\, please visit click here. 
URL:https://www.taycollab.org.uk/event/tric-digifest-2-3/
LOCATION:Dalhousie Building\, Old Hawkhill\, Dundee\, DD1 5EN
CATEGORIES:Learning & Attainment
ATTACH;FMTTYPE=image/png:https://www.taycollab.org.uk/wp-content/uploads/2023/10/DigiFest-2.3-Thumb.png
END:VEVENT
BEGIN:VEVENT
DTSTART;TZID=UTC:20231108T160000
DTEND;TZID=UTC:20231108T170000
DTSTAMP:20260421T103942
CREATED:20230629T080536Z
LAST-MODIFIED:20230629T080920Z
UID:2235-1699459200-1699462800@www.taycollab.org.uk
SUMMARY:Tayside Maths Spotlight Session - CPA- Exploring Concrete Materials With Older Learners
DESCRIPTION:For Second\, Third and Fourth levels. \nOnline 4-5pm \nFor more on Spotlight sessions: Tayside Maths Home Page – Spotlight Sessions (google.com)
URL:https://www.taycollab.org.uk/event/tayside-maths-spotlight-session-cpa-exploring-concrete-materials-with-older-learners/
LOCATION:Online
CATEGORIES:Learning & Attainment
ATTACH;FMTTYPE=image/png:https://www.taycollab.org.uk/wp-content/uploads/2022/09/tayside-maths.png
END:VEVENT
BEGIN:VEVENT
DTSTART;TZID=UTC:20231028T090000
DTEND;TZID=UTC:20231028T133000
DTSTAMP:20260421T103942
CREATED:20230628T122259Z
LAST-MODIFIED:20231004T111718Z
UID:2219-1698483600-1698499800@www.taycollab.org.uk
SUMMARY:Tayside Mathematics Education Conference
DESCRIPTION:Tayside Mathematics Education Conference \nSign-up to register here!
URL:https://www.taycollab.org.uk/event/tayside-mathematics-education-conference/
LOCATION:University of Dundee\, Dundee\, DD1 4HN
CATEGORIES:Learning & Attainment
ATTACH;FMTTYPE=application/pdf:https://www.taycollab.org.uk/wp-content/uploads/2023/06/Tayside-Mathematics-Education-Conference-1.pdf
END:VEVENT
BEGIN:VEVENT
DTSTART;TZID=UTC:20230927T160000
DTEND;TZID=UTC:20230927T170000
DTSTAMP:20260421T103942
CREATED:20230629T080536Z
LAST-MODIFIED:20230629T084308Z
UID:2233-1695830400-1695834000@www.taycollab.org.uk
SUMMARY:Tayside Maths Spotlight Session - Fractions
DESCRIPTION:For First\, Second and Third levels. \nOnline 4-5pm \nFor more on Spotlight sessions: Tayside Maths Home Page – Spotlight Sessions (google.com)
URL:https://www.taycollab.org.uk/event/tayside-maths-spotlight-session-fractions/
LOCATION:Online
CATEGORIES:Learning & Attainment
ATTACH;FMTTYPE=image/png:https://www.taycollab.org.uk/wp-content/uploads/2022/09/tayside-maths.png
END:VEVENT
BEGIN:VEVENT
DTSTART;TZID=UTC:20230523T160000
DTEND;TZID=UTC:20230523T170000
DTSTAMP:20260421T103942
CREATED:20220921T082707Z
LAST-MODIFIED:20220921T084834Z
UID:1966-1684857600-1684861200@www.taycollab.org.uk
SUMMARY:Tayside Maths - Spotlight On... Maths Across the 4 Context of Learning
DESCRIPTION:This is the Ninth webinar in a series of Numeracy and Maths based spotlight sessions hosted by the Tayside Maths Group. \nThis session is aimed at those interested in finding out more about how the four context of learners can be used to enhance children’s mathematical development.  We will be joined by practitioners from Tayside who have been developing this within their setting who will share their experiences\, top tips and advice from their journey so far. \nRegister here: Webinar (microsoft.com)
URL:https://www.taycollab.org.uk/event/tayside-maths-spotlight-on-maths-across-the-4-context-of-learning/
LOCATION:Online
CATEGORIES:Learning & Attainment
END:VEVENT
BEGIN:VEVENT
DTSTART;TZID=UTC:20230518T160000
DTEND;TZID=UTC:20230518T170000
DTSTAMP:20260421T103942
CREATED:20230329T110359Z
LAST-MODIFIED:20230329T110359Z
UID:2173-1684425600-1684429200@www.taycollab.org.uk
SUMMARY:Not Sure Where to Start with Digital?
DESCRIPTION:NOT SURE WHERE TO START with digital? \nOur Teacher Toolkit identifies the 5 key skills for using #Microsoft365 in @GlowScot to get you started  \nFind out more:https://t.co/gn6ZNAiG3R@EducationScot #TeamMIEEScotland \n— Digital Learning and Teaching (@DigiLearnScot) March 29\, 2023
URL:https://www.taycollab.org.uk/event/not-sure-where-to-start-with-digital/
LOCATION:Online
CATEGORIES:Learning & Attainment
ATTACH;FMTTYPE=image/jpeg:https://www.taycollab.org.uk/wp-content/uploads/2022/04/enterprise-education.jpg
END:VEVENT
BEGIN:VEVENT
DTSTART;TZID=UTC:20230425T160000
DTEND;TZID=UTC:20230425T170000
DTSTAMP:20260421T103942
CREATED:20220921T082707Z
LAST-MODIFIED:20220921T084650Z
UID:1964-1682438400-1682442000@www.taycollab.org.uk
SUMMARY:Tayside Maths - Spotlight On... Maths Outdoors
DESCRIPTION:This is the Eighth webinar in a series of Numeracy and Maths based spotlight sessions hosted by the Tayside Maths Group. \nThis session is aimed at those interested in finding out more about how to develop learners’ mathematical understanding using the outdoor environment as a stimulus. We will be joined by practitoners from Tayside who have been developing this within their setting who will share their experiences\, top tips and advice from their journey so far. \nRegister here: Webinar (microsoft.com)
URL:https://www.taycollab.org.uk/event/tayside-maths-spotlight-on-maths-outdoors/
LOCATION:Online
CATEGORIES:Learning & Attainment
END:VEVENT
BEGIN:VEVENT
DTSTART;TZID=UTC:20230325T090000
DTEND;TZID=UTC:20230325T130000
DTSTAMP:20260421T103942
CREATED:20230310T114839Z
LAST-MODIFIED:20230310T114839Z
UID:2157-1679734800-1679749200@www.taycollab.org.uk
SUMMARY:Creative Leadership in Childhood Practice: inspiring pedagogical innovation
DESCRIPTION: \nThe event will be held in Glasgow on the morning of Saturday 25th March and is open to anyone who may be interested. It is part of the University of Glasgow Childhood Practice Annual conference\, and the theme this year is creative leadership. \n\n \nFor further information and sign up\, please see the eventbrite link below.\n\n \n\nhttps://www.eventbrite.com/e/creative-leadership-in-childhood-practice-inspiring-pedagogical-innovation-tickets-507648047977
URL:https://www.taycollab.org.uk/event/creative-leadership-in-childhood-practice-inspiring-pedagogical-innovation/
LOCATION:University of Glasgow\, 11 Chapel Lane\, Glasgow\, G11 6EW
CATEGORIES:Learning & Attainment
END:VEVENT
BEGIN:VEVENT
DTSTART;TZID=UTC:20230321T160000
DTEND;TZID=UTC:20230321T170000
DTSTAMP:20260421T103942
CREATED:20220921T082707Z
LAST-MODIFIED:20220921T084522Z
UID:1962-1679414400-1679418000@www.taycollab.org.uk
SUMMARY:Tayside Maths - Spotlight On... Exploring Early Maths Concepts Through Play
DESCRIPTION:This is the Seventh webinar in a series of Numeracy and Maths based spotlight sessions hosted by the Tayside Maths Group. \nThis session is aimed at those interested in finding out more about how to help children develop their mathematical understanding through play. We will be joined by practitoners from Tayside who have been developing this within their setting who will share their experiences\, top tips and advice from their journey so far. \nRegister here: Webinar (microsoft.com)
URL:https://www.taycollab.org.uk/event/tayside-maths-spotlight-on-exploring-early-maths-concepts-through-play/
LOCATION:Online
CATEGORIES:Learning & Attainment
END:VEVENT
BEGIN:VEVENT
DTSTART;TZID=UTC:20230321T133000
DTEND;TZID=UTC:20230321T150000
DTSTAMP:20260421T103942
CREATED:20230222T114637Z
LAST-MODIFIED:20230222T114637Z
UID:2126-1679405400-1679410800@www.taycollab.org.uk
SUMMARY:Online Safety Live - With UK Safer Internet Centre
DESCRIPTION:The UK Safer Internet Centre are delighted to have teamed up with Dundee\nCity Council to deliver a FREE 90-minuteOnline Safety event. (Open to all in Dundee\, Angus\, and Perth & Kinross)\nOpen to all who work with children and young people\, this event will give\nyou the latest in research\, legislation\, technology\, tools and resources along\nwith exclusive access to the presentation and resource materials.\nSafety online is constantly changing\, and the purpose of Online Safety Live\nevents is to provide access to this information\, right on people’s doorsteps.\nWe understand that everyone is busy\, and the feedback has been clear that\ngetting significant time away from work is a challenge – this is the reason\nwhy we have organised these events as short briefing sessions. They provide\nvital information\, critically supplemented with access to detailed resources\nto review later. The team will also be available to answer any of your online\nsafety queries or questions. So far\, we have welcomed over 25\,000\ndelegates\, either online or face-to-face over the recent few years to these\nevents. \nThis session will support practitioners understanding of the Technologies\nand Health and Wellbeing curriculum. \nUK Safer Internet Centre  \nPlease Click THIS LINK to register
URL:https://www.taycollab.org.uk/event/online-safety-live-with-uk-safer-internet-centre/
LOCATION:Online
CATEGORIES:Learning & Attainment,Safeguarding and Child Protection
END:VEVENT
BEGIN:VEVENT
DTSTART;TZID=UTC:20230314T160000
DTEND;TZID=UTC:20230314T170000
DTSTAMP:20260421T103942
CREATED:20230222T112656Z
LAST-MODIFIED:20230222T112656Z
UID:2123-1678809600-1678813200@www.taycollab.org.uk
SUMMARY:Swift Computing - A Coding Adventure
DESCRIPTION:In partnership with Education Scotland\, we are pleased to offer\n‘Swift Computing and Coding Adventure’ professional learning\nopportunity. This session may be of particular interest to anyone\nwho works with learners working with P5-S2. \nThis online sessions aims to:\n• support digital pedagogy\n• develop practitioner awareness of the computing\nscience curriculum and how it can be developed through\nSwift as a coding language\n• explore Apple’s Everyone Can Code curriculum and the\nSwift Playgrounds app for iPad.
URL:https://www.taycollab.org.uk/event/swift-computing-a-coding-adventure/
LOCATION:Online
CATEGORIES:Learning & Attainment
END:VEVENT
BEGIN:VEVENT
DTSTART;TZID=UTC:20230313T153000
DTEND;TZID=UTC:20230313T163000
DTSTAMP:20260421T103942
CREATED:20230209T120744Z
LAST-MODIFIED:20230209T122333Z
UID:2093-1678721400-1678725000@www.taycollab.org.uk
SUMMARY:This Is Early Level Digital
DESCRIPTION:Applying Skills and Knowledge Through Computing Science \nJoin us to discover how you can make effective use of digital technology to ensure our youngest\nof learners are developing creativity skills for life and learning\, through high quality learning\nexperiences.\nIn this four-part professional learning programme\, explore and create along with us to extend\nyour knowledge of how digital technology can be embedded naturally through play\, linking to\ncurrent guidance and policy (Realising the Ambition\, Curriculum for Excellence\, How Good Is Our Early Learning and Childcare). \nThe session aims to:\n• explore examples of effective digital learning in early level settings and the creative ways in\nwhich practitioners are harnessing digital technology to support planning children’s learning;\n• support early level Digital Literacy and Computing Science experiences and outcomes in\nmore detail whilst aiding practitioners to reflect on their own knowledge and skills or those\nof their setting;\n• bring together like-minded practitioners to share their learning journey through this course.\nParticipants will be asked to share very brief presentation or display demonstrating how they\nhave developed their effective use of digital technologies and pedagogy in their setting.
URL:https://www.taycollab.org.uk/event/this-is-early-level-digital/
LOCATION:Online
CATEGORIES:Learning & Attainment
ATTACH;FMTTYPE=image/png:https://www.taycollab.org.uk/wp-content/uploads/2021/02/Large-background.png
END:VEVENT
BEGIN:VEVENT
DTSTART;TZID=UTC:20230228T160000
DTEND;TZID=UTC:20230228T170000
DTSTAMP:20260421T103942
CREATED:20220921T082707Z
LAST-MODIFIED:20220921T084336Z
UID:1959-1677600000-1677603600@www.taycollab.org.uk
SUMMARY:Tayside Maths - Spotlight On...Exploring Concrete Materials with Older Learners
DESCRIPTION:This is the Sixth webinar in a series of Numeracy and Maths based spotlight sessions hosted by the Tayside Maths Group. \nThis session is aimed at those interested in finding out more about how to use concrete materials with learners working at Second Level and beyond. We will discuss and demonstrate some of the key concrete materials which can be used to develop learner’s understanding of Numeracy and Mathematics concepts. \nRegister here: Webinar (microsoft.com)
URL:https://www.taycollab.org.uk/event/tayside-maths-spotlight-on-exploring-concrete-materials-with-older-learners/
LOCATION:Online
CATEGORIES:Learning & Attainment
END:VEVENT
BEGIN:VEVENT
DTSTART;VALUE=DATE:20230124
DTEND;VALUE=DATE:20230125
DTSTAMP:20260421T103942
CREATED:20220921T082707Z
LAST-MODIFIED:20220921T084037Z
UID:1954-1674518400-1674604799@www.taycollab.org.uk
SUMMARY:Tayside Maths - Spotlight On... Numicon
DESCRIPTION:There are three Numicon sessions taking place on 24th January 2022.  \nThe workshop choices are: \nOption 1: Why Cuisenaire rods are an important member of the Numicon family \n\nDevelop an understanding of the Cuisenaire Rods and how they can make abstract mathematical ideas real and visible\nTo consider how Cuisenaire Rods can support pupils to deepen their understanding of key mathematical concepts\nTo engage and experience activities supported by Cuisenaire Rods\nDiscover useful ideas and strategies which can be applied back in your classroom\n\nOption 2: Fractions in action – making sense of the numbers \n\nExplore a range of Numicon manipulatives that support the CPA approach to teaching\nConsider how to develop a deep understanding of fractions through tried and tested planning\, teaching and assessment materials\nFeel inspired to apply these ideas and strategies to your own classroom\n\nOption 3 – Use it or lose it! The importance of mental calculation and how Numicon can help \n\nConsider the importance of mental calculation throughout the primary phase\nExplore and engage with a range of Numicon manipulatives to support mental calculation from early years to Secondary\nDiscover how Numicon supports the development of mental calculation through tried and tested planning\, teaching and assessment materials\nFeel inspired to take useful ideas and strategies back in your classroom\n\nPlease use the below form to indicate which session you would like to attend.  \nRegister here –Tayside Maths – Spotlight On… Numicon (office.com)
URL:https://www.taycollab.org.uk/event/tayside-maths-spotlight-on-numicon/
LOCATION:Online
CATEGORIES:Learning & Attainment
END:VEVENT
BEGIN:VEVENT
DTSTART;TZID=UTC:20221206T160000
DTEND;TZID=UTC:20221206T170000
DTSTAMP:20260421T103942
CREATED:20220921T082707Z
LAST-MODIFIED:20220921T084019Z
UID:1950-1670342400-1670346000@www.taycollab.org.uk
SUMMARY:Tayside Maths - Spotlight On...Place Value
DESCRIPTION:This is the Fourth webinar in a series of Numeracy and Maths based spotlight sessions hosted by the Tayside Maths Group. \nThis session is aimed at those interested in developing their understanding of place value including discussing the progression of skills within place value and highlighting some of the different resources and activities which you can use to help develop children’s understanding of place value concepts.  \nRegister here –Webinar (microsoft.com)
URL:https://www.taycollab.org.uk/event/place-value/
LOCATION:Online
CATEGORIES:Learning & Attainment
END:VEVENT
BEGIN:VEVENT
DTSTART;TZID=UTC:20221129T160000
DTEND;TZID=UTC:20221129T170000
DTSTAMP:20260421T103942
CREATED:20221129T112301Z
LAST-MODIFIED:20221129T113031Z
UID:2043-1669737600-1669741200@www.taycollab.org.uk
SUMMARY:This is Digital Learning: Session 2 - Teaching
DESCRIPTION:The second event in the series will take place at 4pm on 6th December.  \nThis interactive course will share ideas and support professional discussion. Details and sign up here. \n 
URL:https://www.taycollab.org.uk/event/this-is-digital-learning-session-2-teaching/
LOCATION:Online
CATEGORIES:Learning & Attainment
ATTACH;FMTTYPE=image/jpeg:https://www.taycollab.org.uk/wp-content/uploads/2022/03/tric.jpg
END:VEVENT
BEGIN:VEVENT
DTSTART;TZID=UTC:20221117T180000
DTEND;TZID=UTC:20221117T200000
DTSTAMP:20260421T103942
CREATED:20221110T124052Z
LAST-MODIFIED:20221110T124052Z
UID:2034-1668708000-1668715200@www.taycollab.org.uk
SUMMARY:Teachers: An Introduction to AWS Digital Skills Programmes
DESCRIPTION:Amazon Web Services is excited to be returning to Dundee for a second Digital Fortnight. We are running a week of events in the city\, and our theme this year is Bring the Neighbours – we would like to extend an invitation to Fife\, Perth & Kinross\, Angus\, Stirling\, Aberdeen and Aberdeenshire to join us. \n  \nEducator Workshop – An Introduction to AWS Digital Skills Programmes \nOn Thursday 17th we are holding an Educator workshop at the Cyber Quarter for teachers and lecturers. This introductory workshop will provide attendees with an overview of AWS’ digital skills programmes for schools\, colleges and universities\, the support that’s available for teachers and lecturers and how to get started. \n  \nWe have a full programme planned; as well as AWS Get IT\, we’ll cover AWS Educate and AWS Academy\, and AWS Spark\, a new programme which is goes live on November 8th. Rachel Seys\, the programme lead is travelling from New York to share what Spark offers\, and who it is aimed at. \n  \nAn Introduction to AWS Digital Skills Programmes (splashthat.com)
URL:https://www.taycollab.org.uk/event/teachers-an-introduction-to-aws-digital-skills-programmes/
LOCATION:Abertay University\, Bell Street\, Dundee\, DD1 1HG
CATEGORIES:Learning & Attainment
END:VEVENT
BEGIN:VEVENT
DTSTART;TZID=UTC:20221108T160000
DTEND;TZID=UTC:20221108T170000
DTSTAMP:20260421T103942
CREATED:20220921T082707Z
LAST-MODIFIED:20220921T084007Z
UID:1948-1667923200-1667926800@www.taycollab.org.uk
SUMMARY:Tayside Maths - Spotlight On...Encouraging Mathematical Talk
DESCRIPTION:This is the Third webinar in a series of Numeracy and Maths based spotlight sessions hosted by the Tayside Maths Group. \nThis session is aimed at those interested in finding out more about how to encourage mathematical discussions with your learners. We will be joined by practitioners from Tayside who have been developing mathematical talk within their settings who will share their experiences\, top tips and advice from their journey so far. \nRegister here –Webinar (microsoft.com)
URL:https://www.taycollab.org.uk/event/encouraging-mathematical-talk/
LOCATION:Online
CATEGORIES:Learning & Attainment
END:VEVENT
END:VCALENDAR